BEGIN:VCALENDAR
PRODID:-//github.com/rianjs/ical.net//NONSGML ical.net 4.0//EN
VERSION:2.0
BEGIN:VEVENT
DESCRIPTION:Nasjonale prøver engelsk 5c
DTEND:20151021T111000
DTSTAMP:20260421T165432Z
DTSTART:20151021T080000
SEQUENCE:0
SUMMARY:Nasjonale prøver engelsk 5c
UID:755f7e46-a21c-4892-9c85-9032fd0e12b2
END:VEVENT
END:VCALENDAR
